BEGIN:VCALENDAR
VERSION:2.0
PRODID:-//Squarespace Inc/Squarespace 6//v6//EN
BEGIN:VEVENT
UID:5adabe37aa4a99162ab09cf3@squarespace.com
DTSTAMP:20180421T043046Z
DTSTART:20180424T220000Z
DTEND:20180424T233000Z
SUMMARY:Boxing
END:VEVENT
END:VCALENDAR
