BEGIN:VCALENDAR
VERSION:2.0
PRODID:-//Squarespace Inc/Squarespace 6//v6//EN
BEGIN:VEVENT
UID:5adabc4a758d460a18570f4e@squarespace.com
DTSTAMP:20180421T042341Z
DTSTART:20180423T110000Z
DTEND:20180423T120000Z
SUMMARY:Muay Thai
END:VEVENT
END:VCALENDAR
