BEGIN:VCALENDAR
VERSION:2.0
PRODID:-//Squarespace Inc/Squarespace 6//v6//EN
BEGIN:VEVENT
UID:5adabccd6d2a73aec615a4cf@squarespace.com
DTSTAMP:20180421T043101Z
DTSTART:20180423T113000Z
DTEND:20180423T123000Z
SUMMARY:Brazilian Jiu Jitsu
END:VEVENT
END:VCALENDAR
